BEGIN:VCALENDAR
VERSION:2.0
PRODID:-//Joan Ganz Cooney Center - ECPv6.15.17.1//NONSGML v1.0//EN
CALSCALE:GREGORIAN
METHOD:PUBLISH
X-WR-CALNAME:Joan Ganz Cooney Center
X-ORIGINAL-URL:https://joanganzcooneycenter.org
X-WR-CALDESC:Events for Joan Ganz Cooney Center
REFRESH-INTERVAL;VALUE=DURATION:PT1H
X-Robots-Tag:noindex
X-PUBLISHED-TTL:PT1H
BEGIN:VTIMEZONE
TZID:America/New_York
BEGIN:DAYLIGHT
TZOFFSETFROM:-0500
TZOFFSETTO:-0400
TZNAME:EDT
DTSTART:20150308T070000
END:DAYLIGHT
BEGIN:STANDARD
TZOFFSETFROM:-0400
TZOFFSETTO:-0500
TZNAME:EST
DTSTART:20151101T060000
END:STANDARD
BEGIN:DAYLIGHT
TZOFFSETFROM:-0500
TZOFFSETTO:-0400
TZNAME:EDT
DTSTART:20160313T070000
END:DAYLIGHT
BEGIN:STANDARD
TZOFFSETFROM:-0400
TZOFFSETTO:-0500
TZNAME:EST
DTSTART:20161106T060000
END:STANDARD
BEGIN:DAYLIGHT
TZOFFSETFROM:-0500
TZOFFSETTO:-0400
TZNAME:EDT
DTSTART:20170312T070000
END:DAYLIGHT
BEGIN:STANDARD
TZOFFSETFROM:-0400
TZOFFSETTO:-0500
TZNAME:EST
DTSTART:20171105T060000
END:STANDARD
END:VTIMEZONE
BEGIN:VEVENT
DTSTART;VALUE=DATE:20160615
DTEND;VALUE=DATE:20160616
DTSTAMP:20260421T033839
CREATED:20160601T141620Z
LAST-MODIFIED:20160601T143404Z
UID:14647-1465948800-1466035199@joanganzcooneycenter.org
SUMMARY:Developing Apps for Kids Conference 2016
DESCRIPTION:The Developing Apps for Kids Conference is for anyone working in the children’s app space. It is the go-to event for app developers\, designers\, illustrators\, marketers\, toy companies\, funders\, and other professionals who are working in kid tech media. The conference brings together industry leaders\, top reviewers\, and visionaries to offer advice on the business of kids’ apps.\n\nTickets: www.eventbrite.com/e/developing-apps-for-kids-conference-2016-tickets-24939812651
URL:https://joanganzcooneycenter.org/event/developing-apps-for-kids-conference-2016/
LOCATION:San Francisco\, CA
CATEGORIES:Community
ATTACH;FMTTYPE=image/png:https://joanganzcooneycenter.org/wp-content/uploads/2016/06/TWK-250-250.png
END:VEVENT
BEGIN:VEVENT
DTSTART;VALUE=DATE:20160616
DTEND;VALUE=DATE:20160617
DTSTAMP:20260421T033839
CREATED:20160525T141529Z
LAST-MODIFIED:20160525T141617Z
UID:14642-1466035200-1466121599@joanganzcooneycenter.org
SUMMARY:Media Mentors: Helping Children Build Literacy Skills for the Digital Age Webinar
DESCRIPTION:With young children gaining access to a dizzying array of games\, videos\, and other digital media\, will they ever learn to read? The answer is yes—if they are surrounded by adults who know how to help and if they are introduced to media designed to promote literacy\, instead of undermining it. In short\, these children and their families could greatly benefit from a media mentor.\n\nWhat exactly is a media mentor? Join Michael Levine and Lisa Guernsey\, authors of Tap\, Click\, Read: Growing Readers in a World of Screens\, and Chip Donohue\, editor of Family Engagement in the Digital Age: Early Childhood Educators as Media Mentors\, to discuss this new term in the lexicon of 21st-century early childhood education. Media mentors can help children grow into strong\, passionate readers who are skilled at using media and technology of all kinds—print\, digital\, and everything in between. Many libraries\, for example\, are already starting to support families in making smart media choices and instilling smart media practices with kids. What skills do media mentors need? How can they be supported? And how can more children gain access to them? Michael\, Lisa\, and Chip will kick off a discussion that explores the importance of these new roles.\n\nJoin us for this free webinar on Thursday\, June 16 from 1:30-3pm ET.\nRegister: bit.ly/25lK7YT
URL:https://joanganzcooneycenter.org/event/media-mentors-helping-children-build-literacy-skills-for-the-digital-age-webinar/
LOCATION:Webinar\, Select a Country:
CATEGORIES:Cooney Center presenting
ATTACH;FMTTYPE=image/png:https://joanganzcooneycenter.org/wp-content/uploads/2015/07/tapclickreadcover.png
END:VEVENT
BEGIN:VEVENT
DTSTART;VALUE=DATE:20160623
DTEND;VALUE=DATE:20160625
DTSTAMP:20260421T033839
CREATED:20160404T203159Z
LAST-MODIFIED:20160404T203159Z
UID:14243-1466640000-1466812799@joanganzcooneycenter.org
SUMMARY:Games for Change Festival
DESCRIPTION:The 2016 Games for Change Festival offers two days of exciting keynotes\, panels\, mini talks\, networking events\, and workshops\, where you and the 800 other attendees of the Festival will meet experts\, connect with one another\, share and explore groundbreaking ideas\, and interact with new impact games. This year’s Festival features three tracks of programming\, each highlighting an emerging area of research and innovation within the games for impact sector: Civics & Social Impact\, Neurogaming & Health\, and The Games for Learning Summit.\n\nIn addition\, G4C will host the first-ever G4C Marketplace at the 2016 Festival\, where 20+ leading companies and game studios will showcase new platforms\, products and games in a business-to-business expo open for attendees to visit throughout the Festival.\n\nhttps://www.eventbrite.com/e/the-2016-games-for-change-festival-tickets-23185067160
URL:https://joanganzcooneycenter.org/event/games-for-change-festival-4/
LOCATION:New York\, NY\, New York\, NY\, United States
CATEGORIES:Community
ATTACH;FMTTYPE=image/png:https://joanganzcooneycenter.org/wp-content/uploads/2016/04/10922769_1027771140573355_3977761573913083094_n.png
END:VEVENT
END:VCALENDAR