BEGIN:VCALENDAR
VERSION:2.0
PRODID:-//Joan Ganz Cooney Center - ECPv6.15.17.1//NONSGML v1.0//EN
CALSCALE:GREGORIAN
METHOD:PUBLISH
X-ORIGINAL-URL:https://joanganzcooneycenter.org
X-WR-CALDESC:Events for Joan Ganz Cooney Center
REFRESH-INTERVAL;VALUE=DURATION:PT1H
X-Robots-Tag:noindex
X-PUBLISHED-TTL:PT1H
BEGIN:VTIMEZONE
TZID:America/New_York
BEGIN:DAYLIGHT
TZOFFSETFROM:-0500
TZOFFSETTO:-0400
TZNAME:EDT
DTSTART:20150308T070000
END:DAYLIGHT
BEGIN:STANDARD
TZOFFSETFROM:-0400
TZOFFSETTO:-0500
TZNAME:EST
DTSTART:20151101T060000
END:STANDARD
BEGIN:DAYLIGHT
TZOFFSETFROM:-0500
TZOFFSETTO:-0400
TZNAME:EDT
DTSTART:20160313T070000
END:DAYLIGHT
BEGIN:STANDARD
TZOFFSETFROM:-0400
TZOFFSETTO:-0500
TZNAME:EST
DTSTART:20161106T060000
END:STANDARD
BEGIN:DAYLIGHT
TZOFFSETFROM:-0500
TZOFFSETTO:-0400
TZNAME:EDT
DTSTART:20170312T070000
END:DAYLIGHT
BEGIN:STANDARD
TZOFFSETFROM:-0400
TZOFFSETTO:-0500
TZNAME:EST
DTSTART:20171105T060000
END:STANDARD
END:VTIMEZONE
BEGIN:VEVENT
DTSTART;VALUE=DATE:20160721
DTEND;VALUE=DATE:20160722
DTSTAMP:20260421T020353
CREATED:20160617T134719Z
LAST-MODIFIED:20160617T155646Z
UID:14746-1469059200-1469145599@joanganzcooneycenter.org
SUMMARY:Webinar: Tap\, Click\, Read: Growing Readers in a World of Screens
DESCRIPTION:With young children gaining access to a dizzying array of games\, videos\, and other digital media\, will they ever learn to read? The answer is yes—if they are surrounded by adults who know how to help and if they are introduced to media designed to promote literacy\, instead of undermining it. In this webinar hosted by Share My Lesson\, Michael Levine and Lisa Guernsey\, authors of Tap\, Click\, Read: Growing Readers in a World of Screens\, showed how educators and parents can help children grow into strong\, passionate readers who are skilled at using media and technology of all kinds—print\, digital\, and everything in between.\n\nMichael and Lisa will speak about tools and strategies for supporting literacy for all. Early childhood educators including teachers\, librarian/media specialists\, technology specialists\, literacy coaches\, curriculum specialists\, and parents will benefit from this recorded webinar session.\n\nRegister here.
URL:https://joanganzcooneycenter.org/event/webinar-tap-click-read-growing-readers-in-a-world-of-screens/
LOCATION:Online
CATEGORIES:Cooney Center presenting
ATTACH;FMTTYPE=image/png:https://joanganzcooneycenter.org/wp-content/uploads/2015/07/tapclickreadcover.png
END:VEVENT
END:VCALENDAR