BEGIN:VCALENDAR
VERSION:2.0
PRODID:-//Joan Ganz Cooney Center - ECPv6.15.17.1//NONSGML v1.0//EN
CALSCALE:GREGORIAN
METHOD:PUBLISH
X-WR-CALNAME:Joan Ganz Cooney Center
X-ORIGINAL-URL:https://joanganzcooneycenter.org
X-WR-CALDESC:Events for Joan Ganz Cooney Center
REFRESH-INTERVAL;VALUE=DURATION:PT1H
X-Robots-Tag:noindex
X-PUBLISHED-TTL:PT1H
BEGIN:VTIMEZONE
TZID:America/New_York
BEGIN:DAYLIGHT
TZOFFSETFROM:-0500
TZOFFSETTO:-0400
TZNAME:EDT
DTSTART:20150308T070000
END:DAYLIGHT
BEGIN:STANDARD
TZOFFSETFROM:-0400
TZOFFSETTO:-0500
TZNAME:EST
DTSTART:20151101T060000
END:STANDARD
BEGIN:DAYLIGHT
TZOFFSETFROM:-0500
TZOFFSETTO:-0400
TZNAME:EDT
DTSTART:20160313T070000
END:DAYLIGHT
BEGIN:STANDARD
TZOFFSETFROM:-0400
TZOFFSETTO:-0500
TZNAME:EST
DTSTART:20161106T060000
END:STANDARD
BEGIN:DAYLIGHT
TZOFFSETFROM:-0500
TZOFFSETTO:-0400
TZNAME:EDT
DTSTART:20170312T070000
END:DAYLIGHT
BEGIN:STANDARD
TZOFFSETFROM:-0400
TZOFFSETTO:-0500
TZNAME:EST
DTSTART:20171105T060000
END:STANDARD
END:VTIMEZONE
BEGIN:VEVENT
DTSTART;VALUE=DATE:20160913
DTEND;VALUE=DATE:20160915
DTSTAMP:20260421T020317
CREATED:20160714T191049Z
LAST-MODIFIED:20160714T191049Z
UID:14864-1473724800-1473897599@joanganzcooneycenter.org
SUMMARY:Digital Kids Summit
DESCRIPTION:The Summit brings together thought leaders focused on emerging technology\, ed tech and the intersection of learning and entertainment in every aspect of the kids’ business – whether looking for inspiration\, product development\, or service support for launching a never-before seen product or looking for practical advice for creating a sustained and profitable business all in the heart of innovation Silicon Valley.\n\nRegister: https://events.r20.constantcontact.com/register/eventReg?oeidk=a07ecj3uecq9305e858&oseq=&c=&ch=
URL:https://joanganzcooneycenter.org/event/digital-kids-summit-2/
LOCATION:San Francisco\, CA
CATEGORIES:Community
ATTACH;FMTTYPE=image/png:https://joanganzcooneycenter.org/wp-content/uploads/2016/07/digital_kids_summit-390x226-300x174.png
END:VEVENT
BEGIN:VEVENT
DTSTART;VALUE=DATE:20160915
DTEND;VALUE=DATE:20160918
DTSTAMP:20260421T020317
CREATED:20160714T193048Z
LAST-MODIFIED:20160714T193134Z
UID:14866-1473897600-1474156799@joanganzcooneycenter.org
SUMMARY:2016 International Mind\, Brain and Education Society (IMBES) Conference
DESCRIPTION:The mission of IMBES is to facilitate cross-cultural collaboration in biology\, education and the cognitive and developmental sciences. The 2016 conference will focus on the learning\, the process and the future of Mind\, Brain and Education (MBE) work. In addition to hearing about new exciting research\, speakers will discuss the challenges and their learning\, and attendees will be encouraged to take part in sessions exploring how to push this field forward.\n\nMichael Levine will present on a panel with Kathy Hirsh-Pasek. More details to come.\n\nRegister: http://www.imbes.org/page-1810947
URL:https://joanganzcooneycenter.org/event/2016-international-mind-brain-and-education-society-imbes-conference/
LOCATION:Venue Toronto\, Canada\, Toronto\, Canada 
CATEGORIES:Community,Cooney Center presenting
ATTACH;FMTTYPE=image/jpeg:https://joanganzcooneycenter.org/wp-content/uploads/2016/07/IMBESlogo-CMYKv2-copy.jpg
END:VEVENT
END:VCALENDAR