BEGIN:VCALENDAR
VERSION:2.0
PRODID:-//Joan Ganz Cooney Center - ECPv6.15.17.1//NONSGML v1.0//EN
CALSCALE:GREGORIAN
METHOD:PUBLISH
X-WR-CALNAME:Joan Ganz Cooney Center
X-ORIGINAL-URL:https://joanganzcooneycenter.org
X-WR-CALDESC:Events for Joan Ganz Cooney Center
REFRESH-INTERVAL;VALUE=DURATION:PT1H
X-Robots-Tag:noindex
X-PUBLISHED-TTL:PT1H
BEGIN:VTIMEZONE
TZID:America/New_York
BEGIN:DAYLIGHT
TZOFFSETFROM:-0500
TZOFFSETTO:-0400
TZNAME:EDT
DTSTART:20170312T070000
END:DAYLIGHT
BEGIN:STANDARD
TZOFFSETFROM:-0400
TZOFFSETTO:-0500
TZNAME:EST
DTSTART:20171105T060000
END:STANDARD
BEGIN:DAYLIGHT
TZOFFSETFROM:-0500
TZOFFSETTO:-0400
TZNAME:EDT
DTSTART:20180311T070000
END:DAYLIGHT
BEGIN:STANDARD
TZOFFSETFROM:-0400
TZOFFSETTO:-0500
TZNAME:EST
DTSTART:20181104T060000
END:STANDARD
BEGIN:DAYLIGHT
TZOFFSETFROM:-0500
TZOFFSETTO:-0400
TZNAME:EDT
DTSTART:20190310T070000
END:DAYLIGHT
BEGIN:STANDARD
TZOFFSETFROM:-0400
TZOFFSETTO:-0500
TZNAME:EST
DTSTART:20191103T060000
END:STANDARD
END:VTIMEZONE
BEGIN:VEVENT
DTSTART;VALUE=DATE:20180524
DTEND;VALUE=DATE:20180529
DTSTAMP:20260419T131250
CREATED:20180419T161233Z
LAST-MODIFIED:20180419T161333Z
UID:18283-1527120000-1527551999@joanganzcooneycenter.org
SUMMARY:2018 International Communication Association Conference
DESCRIPTION:Against a backdrop of evolving technologies and shifting sociocultural and political dynamics\, the 2018 ICA conference theme\, Voices\, encourages scholars to delve more deeply into a concept inextricably linked with communication.\n\nFor those attending\, join Cooney Center Acting Executive Director Lori Takeuchi for a panel discussion on Designing Media to Encourage Tolerance and Empathy in Youth on Friday\, May 25.\nLearn More
URL:https://joanganzcooneycenter.org/event/annual-international-communication-association-conference/
LOCATION:Prague\, Czech Republic
CATEGORIES:Cooney Center presenting
ATTACH;FMTTYPE=image/png:https://joanganzcooneycenter.org/wp-content/uploads/2018/04/ICA-logo.png
END:VEVENT
BEGIN:VEVENT
DTSTART;VALUE=DATE:20180601
DTEND;VALUE=DATE:20180604
DTSTAMP:20260419T131250
CREATED:20180430T151314Z
LAST-MODIFIED:20180430T151351Z
UID:18348-1527811200-1528070399@joanganzcooneycenter.org
SUMMARY:Dust or Magic AppCamp
DESCRIPTION:A gathering of top children’s interactive designers\, editors and reviewers who review the year and critique the field. The reviewers share what they’ve seen and explain what they like. The publishers demonstrate their latest apps.\n\nWhat do you do at App Camp?\n 	Give demos and get feedback from an expert audience.\n 	Meet old friends\, and make new ones.\n 	Help critique the latest apps by way of demonstrations.\n 	Get the latest news on hardware and app store policies.\n 	Get a crash course of the “magic” of interactive engagement.\n 	Leave inspired to make smarter\, better products.\nLearn More
URL:https://joanganzcooneycenter.org/event/dust-or-magic-appcamp/
LOCATION:Asilomar\, CA
CATEGORIES:Community
ATTACH;FMTTYPE=image/jpeg:https://joanganzcooneycenter.org/wp-content/uploads/2018/04/appCampBanner-Logo-use-this-one-292x300.jpg
END:VEVENT
END:VCALENDAR