BEGIN:VCALENDAR
VERSION:2.0
PRODID:-//Joan Ganz Cooney Center - ECPv6.15.17.1//NONSGML v1.0//EN
CALSCALE:GREGORIAN
METHOD:PUBLISH
X-ORIGINAL-URL:https://joanganzcooneycenter.org
X-WR-CALDESC:Events for Joan Ganz Cooney Center
REFRESH-INTERVAL;VALUE=DURATION:PT1H
X-Robots-Tag:noindex
X-PUBLISHED-TTL:PT1H
BEGIN:VTIMEZONE
TZID:America/New_York
BEGIN:DAYLIGHT
TZOFFSETFROM:-0500
TZOFFSETTO:-0400
TZNAME:EDT
DTSTART:20170312T070000
END:DAYLIGHT
BEGIN:STANDARD
TZOFFSETFROM:-0400
TZOFFSETTO:-0500
TZNAME:EST
DTSTART:20171105T060000
END:STANDARD
BEGIN:DAYLIGHT
TZOFFSETFROM:-0500
TZOFFSETTO:-0400
TZNAME:EDT
DTSTART:20180311T070000
END:DAYLIGHT
BEGIN:STANDARD
TZOFFSETFROM:-0400
TZOFFSETTO:-0500
TZNAME:EST
DTSTART:20181104T060000
END:STANDARD
BEGIN:DAYLIGHT
TZOFFSETFROM:-0500
TZOFFSETTO:-0400
TZNAME:EDT
DTSTART:20190310T070000
END:DAYLIGHT
BEGIN:STANDARD
TZOFFSETFROM:-0400
TZOFFSETTO:-0500
TZNAME:EST
DTSTART:20191103T060000
END:STANDARD
END:VTIMEZONE
BEGIN:VEVENT
DTSTART;VALUE=DATE:20181101
DTEND;VALUE=DATE:20181102
DTSTAMP:20260419T115306
CREATED:20181024T194654Z
LAST-MODIFIED:20181024T200131Z
UID:18727-1541030400-1541116799@joanganzcooneycenter.org
SUMMARY:Children's Media Association - Bay Area Town Hall
DESCRIPTION:The Children’s Media Association celebrates the launch of the Bay Area chapter with their first official event:\n\nRosé and Play with CMA-BA\n\nThere will be games. There will be snacks. There will be tastings of rosés. And\, of course\, there will be opportunities to network with the dreamers and makers in our beloved industry!\n\nOur Town Hall is an opportunity to be part of the “think tank” that is CMA-BA. Come and celebrate with us at our launch party…for a brainstorm about our exciting new chapter…an update about open officer positions and other ways to contribute…and a chance to become a founding member of Children’s Media Association-Bay Area! The event is FREE…Just RSVP!\n\nhttps://bit.ly/2AopLDN\n\nAnd don’t forget to bring a friend and extend this invitation to your children’s media colleagues! Earn a chance to win prizes at the Town Hall raffle for every friend you bring!\n\nDate and Time: Thursday\, November 1\, 2018 from 7:30pm-9:00pmLocation: Neyborly Union Square (590 Sutter Street\, San Francisco\, CA 94102)
URL:https://joanganzcooneycenter.org/event/childrens-media-association-bay-area-town-hall/
LOCATION:San Francisco\, CA
CATEGORIES:Community
ATTACH;FMTTYPE=image/jpeg:https://joanganzcooneycenter.org/wp-content/uploads/2018/10/cma-bayarea.jpg
END:VEVENT
BEGIN:VEVENT
DTSTART;VALUE=DATE:20181104
DTEND;VALUE=DATE:20181107
DTSTAMP:20260419T115306
CREATED:20181003T171415Z
LAST-MODIFIED:20181003T171415Z
UID:18670-1541289600-1541548799@joanganzcooneycenter.org
SUMMARY:18th Annual Dust or Magic Fall Institute
DESCRIPTION:A group of reviewers\, designers and researchers meet to review the past year in children’s interactive media\, as well as the latest research\, writing and trends. The three day event—equivalent to a graduate level course—includes review of child development theory applied to the latest interactive media\, plus demos\, critiques\, testing and brainstorming sessions.\n\nThis agenda is not defined by social or commercial agendas. Selling is not permitted; there are no sponsors or booths. Dust or Magic is an outgrowth of Children’s Technology Review’s ongoing study of children’s interactive media.\n\n \n\nLearn more and register at http://dustormagic.com/institute/
URL:https://joanganzcooneycenter.org/event/18th-annual-dust-or-magic-fall-institute/
LOCATION:Venue Lambertville\, NJ\, Lambertville\, NJ
CATEGORIES:Community
ATTACH;FMTTYPE=image/jpeg:https://joanganzcooneycenter.org/wp-content/uploads/2018/01/dustormagic_logo_261x60.jpg
END:VEVENT
BEGIN:VEVENT
DTSTART;VALUE=DATE:20181107
DTEND;VALUE=DATE:20181109
DTSTAMP:20260419T115306
CREATED:20180910T170107Z
LAST-MODIFIED:20181003T191031Z
UID:18626-1541548800-1541721599@joanganzcooneycenter.org
SUMMARY:Future of Childhood Salon: Immersive Media and Child Development
DESCRIPTION:On November 7 and 8\, 2018\, the Joan Ganz Cooney Center at Sesame Workshop\, the School for the Future of Innovation in Society at Arizona State University\, and Dubit will host the inaugural Future of Childhood Salon on Immersive Media and Child Development. At this day-and-a-half workshop\, we will proactively plan for the future of immersive media—i.e.\, virtual\, augmented\, and mixed realities—in the lives of preadolescents before these technologies become ubiquitous among children this age. A cross-sectoral group of approximately 65 child development and media researchers\, learning scientists\, child health experts\, hardware and content developers\, educators\, journalists\, and funders will look at these emerging media via a cascading series of considerations. These will be organized around necessary choices in order for VR\, AR\, and MR—from such time they are approved for use by pre-teens—to be unique\, essential\, safe\, engaging\, and beneficial to children’s socio-emotional\, cognitive\, and physical development. The goal is to emerge with an agenda for needed research\, a framework for responsible development of immersive experiences for children\, and industry-wide best practices that can evolve over time via cross-sectoral partnerships.\n\n \n\n 
URL:https://joanganzcooneycenter.org/event/future-of-childhood-salon-immersive-media-and-child-development/
CATEGORIES:Cooney Center,Cooney Center presenting
ATTACH;FMTTYPE=image/png:https://joanganzcooneycenter.org/wp-content/uploads/2018/09/immersivemedia_thumb.png
END:VEVENT
BEGIN:VEVENT
DTSTART;VALUE=DATE:20181114
DTEND;VALUE=DATE:20181118
DTSTAMP:20260419T115306
CREATED:20181003T182655Z
LAST-MODIFIED:20181003T182655Z
UID:18672-1542153600-1542499199@joanganzcooneycenter.org
SUMMARY:NAEYC 2018 Annual Conference
DESCRIPTION:The NAEYC Annual Conference is the largest early childhood education conference in the world. Each year\, tens of thousands of teachers\, program administrators\, students\, and researchers choose from hundreds of presentations and exhibits to explore the latest trends and research in the early childhood field.\n\nLearn more and register: https://www.naeyc.org/events/annual
URL:https://joanganzcooneycenter.org/event/naeyc-2018-annual-conference/
LOCATION:Venue Washington D.C.\, Washington D.C.\, United States
CATEGORIES:Community
ATTACH;FMTTYPE=image/jpeg:https://joanganzcooneycenter.org/wp-content/uploads/2016/09/OYxI6ELN.jpg
END:VEVENT
BEGIN:VEVENT
DTSTART;VALUE=DATE:20181115
DTEND;VALUE=DATE:20181116
DTSTAMP:20260419T115306
CREATED:20181022T164924Z
LAST-MODIFIED:20181023T180144Z
UID:18712-1542240000-1542326399@joanganzcooneycenter.org
SUMMARY:Family Online Safety Institute: 2018 Annual Conference
DESCRIPTION:The 2018 FOSI Annual Conference will see the launch of FOSI’s latest research report\, “Online Safety Across the Generations.” Panels will address topics such as screen time and “tech addiction”\, digital resilience and wellbeing\, content moderation\, children’s privacy\, and how we can all work together to build a culture of responsibility online.\n\nLearn more and register at fosi.org
URL:https://joanganzcooneycenter.org/event/family-online-safety-institute-2018-annual-conference/
LOCATION:Washington\, DC\, Washington\, DC\, Select a Country:
CATEGORIES:Community
ATTACH;FMTTYPE=image/jpeg:https://joanganzcooneycenter.org/wp-content/uploads/2018/10/fosi.jpg
END:VEVENT
END:VCALENDAR