BEGIN:VCALENDAR
VERSION:2.0
PRODID:-//Joan Ganz Cooney Center - ECPv6.15.17.1//NONSGML v1.0//EN
CALSCALE:GREGORIAN
METHOD:PUBLISH
X-WR-CALNAME:Joan Ganz Cooney Center
X-ORIGINAL-URL:https://joanganzcooneycenter.org
X-WR-CALDESC:Events for Joan Ganz Cooney Center
REFRESH-INTERVAL;VALUE=DURATION:PT1H
X-Robots-Tag:noindex
X-PUBLISHED-TTL:PT1H
BEGIN:VTIMEZONE
TZID:America/New_York
BEGIN:DAYLIGHT
TZOFFSETFROM:-0500
TZOFFSETTO:-0400
TZNAME:EDT
DTSTART:20230312T070000
END:DAYLIGHT
BEGIN:STANDARD
TZOFFSETFROM:-0400
TZOFFSETTO:-0500
TZNAME:EST
DTSTART:20231105T060000
END:STANDARD
BEGIN:DAYLIGHT
TZOFFSETFROM:-0500
TZOFFSETTO:-0400
TZNAME:EDT
DTSTART:20240310T070000
END:DAYLIGHT
BEGIN:STANDARD
TZOFFSETFROM:-0400
TZOFFSETTO:-0500
TZNAME:EST
DTSTART:20241103T060000
END:STANDARD
BEGIN:DAYLIGHT
TZOFFSETFROM:-0500
TZOFFSETTO:-0400
TZNAME:EDT
DTSTART:20250309T070000
END:DAYLIGHT
BEGIN:STANDARD
TZOFFSETFROM:-0400
TZOFFSETTO:-0500
TZNAME:EST
DTSTART:20251102T060000
END:STANDARD
END:VTIMEZONE
BEGIN:VEVENT
DTSTART;VALUE=DATE:20240416
DTEND;VALUE=DATE:20240417
DTSTAMP:20260419T083655
CREATED:20240313T194059Z
LAST-MODIFIED:20240422T201034Z
UID:24550-1713225600-1713311999@joanganzcooneycenter.org
SUMMARY:Kid-Tested\, Evidence-Approved: The Future of EdTech Design at ASU+GSV
DESCRIPTION:Kid-Tested\, Evidence-Approved: The Future of EdTech Design\nTuesday\, April 16\n3:50 – 4:30 pm PT\n\n \n\nThe current EdTech market is full of products that claim to make teaching\, learning\, and assessment easier for learners and educators. But what if\, in addition to helping kids master important concepts more efficiently\, digital products made learning truly empowering and engaging by drawing deeply from the science of learning and utilizing rigorous participatory R&D methods to ensure that children (and their grownups) had a role in designing the products made for them? We’ll discuss how and why evidence-based approaches to co-designing with children\, educators\, and investors can lead to kid-centered EdTech products that make a real difference.\n\n \nModerator: Michael Preston | Joan Ganz Cooney Center Panelists:\nBrandon Cardet-Hernandez | Mrs Wordsmith\nJared Joiner | Chan Zuckerberg\nRebecca Kockler | AERDF (Advanced Education Research & Development Fund)\nMichele Leardo | Walton Family Foundation Learn more
URL:https://joanganzcooneycenter.org/event/kid-tested-evidence-approved-the-future-of-edtech-design-at-asugsv/
CATEGORIES:Cooney Center presenting
ATTACH;FMTTYPE=image/jpeg:https://joanganzcooneycenter.org/wp-content/uploads/2022/02/asu_gsv.jpg
END:VEVENT
END:VCALENDAR